BEGIN:VCALENDAR
VERSION:2.0
PRODID:-//UCM - Universal Christian Ministries - ECPv6.15.18//NONSGML v1.0//EN
CALSCALE:GREGORIAN
METHOD:PUBLISH
X-ORIGINAL-URL:https://ucmusa.org
X-WR-CALDESC:Events for UCM - Universal Christian Ministries
REFRESH-INTERVAL;VALUE=DURATION:PT1H
X-Robots-Tag:noindex
X-PUBLISHED-TTL:PT1H
BEGIN:VTIMEZONE
TZID:UTC
BEGIN:STANDARD
TZOFFSETFROM:+0000
TZOFFSETTO:+0000
TZNAME:UTC
DTSTART:20200101T000000
END:STANDARD
END:VTIMEZONE
BEGIN:VEVENT
DTSTART;TZID=UTC:20210522T000000
DTEND;TZID=UTC:20210522T040000
DTSTAMP:20260425T120817
CREATED:20180104T164101Z
LAST-MODIFIED:20180104T164101Z
UID:7683-1621641600-1621656000@ucmusa.org
SUMMARY:Prayer Vigil
DESCRIPTION:
URL:https://ucmusa.org/event/prayer-vigil-2021-05-22/
LOCATION:ucm santuary\, 997 raymond ave\, st paul\, MN\, United States
END:VEVENT
BEGIN:VEVENT
DTSTART;TZID=UTC:20210523T090000
DTEND;TZID=UTC:20210523T110000
DTSTAMP:20260425T120817
CREATED:20180104T164545Z
LAST-MODIFIED:20180104T164545Z
UID:7685-1621760400-1621767600@ucmusa.org
SUMMARY:Sunday Services
DESCRIPTION:
URL:https://ucmusa.org/event/sunday-services-2021-05-23/
END:VEVENT
BEGIN:VEVENT
DTSTART;TZID=UTC:20210523T113000
DTEND;TZID=UTC:20210523T140000
DTSTAMP:20260425T120817
CREATED:20180104T164545Z
LAST-MODIFIED:20180104T164545Z
UID:7686-1621769400-1621778400@ucmusa.org
SUMMARY:Sunday Services
DESCRIPTION:
URL:https://ucmusa.org/event/sunday-services-2021-05-23-2/
END:VEVENT
BEGIN:VEVENT
DTSTART;TZID=UTC:20210525T120000
DTEND;TZID=UTC:20210525T160000
DTSTAMP:20260425T120817
CREATED:20180104T090701Z
LAST-MODIFIED:20180104T090701Z
UID:7687-1621944000-1621958400@ucmusa.org
SUMMARY:Deliverance Hour
DESCRIPTION:
URL:https://ucmusa.org/event/deliverance-hour-2021-05-25/
LOCATION:ucm santuary\, 997 raymond ave\, st paul\, MN\, United States
END:VEVENT
BEGIN:VEVENT
DTSTART;TZID=UTC:20210526T190000
DTEND;TZID=UTC:20210526T213000
DTSTAMP:20260425T120817
CREATED:20180104T090228Z
LAST-MODIFIED:20180104T090228Z
UID:7708-1622055600-1622064600@ucmusa.org
SUMMARY:Wed. Bible Study
DESCRIPTION:
URL:https://ucmusa.org/event/wed-bible-study-2021-05-26/
LOCATION:ucm santuary\, 997 raymond ave\, st paul\, MN\, United States
END:VEVENT
BEGIN:VEVENT
DTSTART;TZID=UTC:20210529T000000
DTEND;TZID=UTC:20210529T040000
DTSTAMP:20260425T120817
CREATED:20180104T164101Z
LAST-MODIFIED:20180104T164101Z
UID:7709-1622246400-1622260800@ucmusa.org
SUMMARY:Prayer Vigil
DESCRIPTION:
URL:https://ucmusa.org/event/prayer-vigil-2021-05-29/
LOCATION:ucm santuary\, 997 raymond ave\, st paul\, MN\, United States
END:VEVENT
BEGIN:VEVENT
DTSTART;TZID=UTC:20210530T090000
DTEND;TZID=UTC:20210530T110000
DTSTAMP:20260425T120817
CREATED:20180104T164545Z
LAST-MODIFIED:20180104T164545Z
UID:7710-1622365200-1622372400@ucmusa.org
SUMMARY:Sunday Services
DESCRIPTION:
URL:https://ucmusa.org/event/sunday-services-2021-05-30/
END:VEVENT
BEGIN:VEVENT
DTSTART;TZID=UTC:20210530T113000
DTEND;TZID=UTC:20210530T140000
DTSTAMP:20260425T120817
CREATED:20180104T164545Z
LAST-MODIFIED:20180104T164545Z
UID:7711-1622374200-1622383200@ucmusa.org
SUMMARY:Sunday Services
DESCRIPTION:
URL:https://ucmusa.org/event/sunday-services-2021-05-30-2/
END:VEVENT
END:VCALENDAR