BEGIN:VCALENDAR
VERSION:2.0
PRODID:-//UCM - Universal Christian Ministries - ECPv6.15.18//NONSGML v1.0//EN
CALSCALE:GREGORIAN
METHOD:PUBLISH
X-WR-CALNAME:UCM - Universal Christian Ministries
X-ORIGINAL-URL:https://ucmusa.org
X-WR-CALDESC:Events for UCM - Universal Christian Ministries
REFRESH-INTERVAL;VALUE=DURATION:PT1H
X-Robots-Tag:noindex
X-PUBLISHED-TTL:PT1H
BEGIN:VTIMEZONE
TZID:UTC
BEGIN:STANDARD
TZOFFSETFROM:+0000
TZOFFSETTO:+0000
TZNAME:UTC
DTSTART:20200101T000000
END:STANDARD
END:VTIMEZONE
BEGIN:VEVENT
DTSTART;TZID=UTC:20210613T090000
DTEND;TZID=UTC:20210613T110000
DTSTAMP:20260425T160518
CREATED:20180104T164545Z
LAST-MODIFIED:20180104T164545Z
UID:7720-1623574800-1623582000@ucmusa.org
SUMMARY:Sunday Services
DESCRIPTION:
URL:https://ucmusa.org/event/sunday-services-2021-06-13/
END:VEVENT
BEGIN:VEVENT
DTSTART;TZID=UTC:20210613T113000
DTEND;TZID=UTC:20210613T140000
DTSTAMP:20260425T160518
CREATED:20180104T164545Z
LAST-MODIFIED:20180104T164545Z
UID:7721-1623583800-1623592800@ucmusa.org
SUMMARY:Sunday Services
DESCRIPTION:
URL:https://ucmusa.org/event/sunday-services-2021-06-13-2/
END:VEVENT
END:VCALENDAR